BEGIN:VCALENDAR
VERSION:2.0
PRODID:spatie/icalendar-generator
DESCRIPTION:Events from 
X-WR-CALDESC:Events from 
REFRESH-INTERVAL;VALUE=DURATION:PT1440M
X-PUBLISHED-TTL:PT1440M
BEGIN:VTIMEZONE
TZID:Europe/London
BEGIN:STANDARD
DTSTART:20251026T020000Z
TZOFFSETFROM:+0100
TZOFFSETTO:+0000
END:STANDARD
BEGIN:DAYLIGHT
DTSTART:20260329T010000Z
TZOFFSETFROM:+0000
TZOFFSETTO:+0100
END:DAYLIGHT
BEGIN:STANDARD
DTSTART:20261025T020000Z
TZOFFSETFROM:+0100
TZOFFSETTO:+0000
END:STANDARD
END:VTIMEZONE
BEGIN:VTIMEZONE
TZID:UTC
BEGIN:STANDARD
DTSTART:20250724T104838Z
TZOFFSETFROM:+0000
TZOFFSETTO:+0000
END:STANDARD
END:VTIMEZONE
BEGIN:VEVENT
UID:888-43
DTSTAMP:20260420T104838Z
SUMMARY:Antiques Valuation
LOCATION:
ORGANIZER;CN=PantMemorialInstitute:MAILTO:secretary@pantmemorialhall.org.uk
DTSTART;TZID=Europe/London:20260613T100000
DTEND;TZID=Europe/London:20260613T143000
X-ALT-DESC;FMTTYPE=TEXT/HTML:Event runs from 10.30am until 2pm For further 
 details\, contact Paul Burkinshaw 07779 091367/arenapremier@aol.com
CATEGORIES:Class
URL;VALUE=URI:https://pantmemorialhall.org.uk/mc-events/antiques-valuation/
METHOD:PUBLISH
END:VEVENT
END:VCALENDAR