BEGIN:VCALENDAR
VERSION:2.0
PRODID:spatie/icalendar-generator
DESCRIPTION:Events from 
X-WR-CALDESC:Events from 
REFRESH-INTERVAL;VALUE=DURATION:PT1440M
X-PUBLISHED-TTL:PT1440M
BEGIN:VTIMEZONE
TZID:Europe/London
BEGIN:STANDARD
DTSTART:20251026T020000Z
TZOFFSETFROM:+0100
TZOFFSETTO:+0000
END:STANDARD
BEGIN:DAYLIGHT
DTSTART:20260329T010000Z
TZOFFSETFROM:+0000
TZOFFSETTO:+0100
END:DAYLIGHT
END:VTIMEZONE
BEGIN:VTIMEZONE
TZID:UTC
BEGIN:STANDARD
DTSTART:20250724T105659Z
TZOFFSETFROM:+0000
TZOFFSETTO:+0000
END:STANDARD
END:VTIMEZONE
BEGIN:VEVENT
UID:725-91
DTSTAMP:20260420T105659Z
SUMMARY:Morton Church – quiz
LOCATION:
ORGANIZER;CN=PantMemorialInstitute:MAILTO:secretary@pantmemorialhall.org.uk
DTSTART;TZID=Europe/London:20260130T180000
DTEND;TZID=Europe/London:20260130T230000
X-ALT-DESC;FMTTYPE=TEXT/HTML:Quiz in aid of Morton church 6.30pm for a 7pm 
 start Teams of 6 – £5 per person Bring your own drink and glasses To bo
 ok\, call Pamela Craig: 07732 403745or email granmacraig@yahoo.co.uk &amp;nbsp
 \;
CATEGORIES:Quiz
URL;VALUE=URI:https://pantmemorialhall.org.uk/mc-events/morton-church-quiz/
METHOD:PUBLISH
END:VEVENT
END:VCALENDAR