BEGIN:VCALENDAR
VERSION:2.0
PRODID:spatie/icalendar-generator
DESCRIPTION:Events from 
X-WR-CALDESC:Events from 
REFRESH-INTERVAL;VALUE=DURATION:PT1440M
X-PUBLISHED-TTL:PT1440M
BEGIN:VTIMEZONE
TZID:Europe/London
BEGIN:STANDARD
DTSTART:20251026T020000Z
TZOFFSETFROM:+0100
TZOFFSETTO:+0000
END:STANDARD
BEGIN:DAYLIGHT
DTSTART:20260329T010000Z
TZOFFSETFROM:+0000
TZOFFSETTO:+0100
END:DAYLIGHT
END:VTIMEZONE
BEGIN:VTIMEZONE
TZID:UTC
BEGIN:STANDARD
DTSTART:20250725T122519Z
TZOFFSETFROM:+0000
TZOFFSETTO:+0000
END:STANDARD
END:VTIMEZONE
BEGIN:VEVENT
UID:692-109
DTSTAMP:20260421T122519Z
SUMMARY:Bring Your Own Craft Night
LOCATION:
ORGANIZER;CN=PantMemorialInstitute:MAILTO:secretary@pantmemorialhall.org.uk
RRULE:FREQ=MONTHLY;BYMONTHDAY=14;UNTIL=20260311T000000Z
DTSTART;TZID=Europe/London:20260114T183000
DTEND;TZID=Europe/London:20260114T213000
X-ALT-DESC;FMTTYPE=TEXT/HTML:Event runs from 7pm until 9pm Never got round 
 to finishing that piece of knitting\, crochet\, embroidery or other craft 
 project? Come along for an informal evening of chat and crafting! For furt
 her details\, contact Kelly at: pantBYOC@gmail.com
CATEGORIES:Craft
URL;VALUE=URI:https://pantmemorialhall.org.uk/mc-events/bring-your-own-craf
 t-night/?mc_id=692
METHOD:PUBLISH
END:VEVENT
END:VCALENDAR