BEGIN:VCALENDAR
VERSION:2.0
PRODID:spatie/icalendar-generator
DESCRIPTION:Events from 
X-WR-CALDESC:Events from 
REFRESH-INTERVAL;VALUE=DURATION:PT1440M
X-PUBLISHED-TTL:PT1440M
BEGIN:VTIMEZONE
TZID:Europe/London
BEGIN:DAYLIGHT
DTSTART:20250330T010000Z
TZOFFSETFROM:+0000
TZOFFSETTO:+0100
END:DAYLIGHT
BEGIN:STANDARD
DTSTART:20251026T020000Z
TZOFFSETFROM:+0100
TZOFFSETTO:+0000
END:STANDARD
BEGIN:DAYLIGHT
DTSTART:20260329T010000Z
TZOFFSETFROM:+0000
TZOFFSETTO:+0100
END:DAYLIGHT
END:VTIMEZONE
BEGIN:VTIMEZONE
TZID:UTC
BEGIN:STANDARD
DTSTART:20250724T092007Z
TZOFFSETFROM:+0000
TZOFFSETTO:+0000
END:STANDARD
END:VTIMEZONE
BEGIN:VEVENT
UID:316-18
DTSTAMP:20260420T092007Z
SUMMARY:Pop-Up Pub
LOCATION:
ORGANIZER;CN=PantMemorialInstitute:MAILTO:secretary@pantmemorialhall.org.uk
DTSTART;TZID=Europe/London:20251107T173000
DTEND;TZID=Europe/London:20251107T223000
X-ALT-DESC;FMTTYPE=TEXT/HTML:Pop-Up Pub runs from 6.00pm until 10pm Bring y
 our own bottle\, playing cards or board game to socialise and enjoy an eve
 ning amongst friends and neighbours. There will be a burger van in the hal
 l car park.
CATEGORIES:Pop-Up Pub
URL;VALUE=URI:https://pantmemorialhall.org.uk/mc-events/pop-up-pub/
METHOD:PUBLISH
END:VEVENT
END:VCALENDAR