BEGIN:VCALENDAR
VERSION:2.0
PRODID:spatie/icalendar-generator
DESCRIPTION:Events from 
X-WR-CALDESC:Events from 
REFRESH-INTERVAL;VALUE=DURATION:PT1440M
X-PUBLISHED-TTL:PT1440M
BEGIN:VTIMEZONE
TZID:Europe/London
BEGIN:DAYLIGHT
DTSTART:20250330T010000Z
TZOFFSETFROM:+0000
TZOFFSETTO:+0100
END:DAYLIGHT
BEGIN:STANDARD
DTSTART:20251026T020000Z
TZOFFSETFROM:+0100
TZOFFSETTO:+0000
END:STANDARD
BEGIN:DAYLIGHT
DTSTART:20260329T010000Z
TZOFFSETFROM:+0000
TZOFFSETTO:+0100
END:DAYLIGHT
END:VTIMEZONE
BEGIN:VTIMEZONE
TZID:UTC
BEGIN:STANDARD
DTSTART:20250724T214158Z
TZOFFSETFROM:+0000
TZOFFSETTO:+0000
END:STANDARD
END:VTIMEZONE
BEGIN:VEVENT
UID:100-31
DTSTAMP:20260420T214158Z
SUMMARY:Stage Five Theatre
LOCATION:
ORGANIZER;CN=PantMemorialInstitute:MAILTO:secretary@pantmemorialhall.org.uk
DTSTART;TZID=Europe/London:20251027T190000
DTEND;TZID=Europe/London:20251027T220000
X-ALT-DESC;FMTTYPE=TEXT/HTML:Event runs from 7.30pm until 9.30pm For furthe
 r details contact: Pam Johnson 07814 489713/stagefivetheatre@gmail.com
CATEGORIES:Performance
URL;VALUE=URI:https://pantmemorialhall.org.uk/mc-events/stage-five-theatre-
 2/
METHOD:PUBLISH
END:VEVENT
END:VCALENDAR