BEGIN:VCALENDAR
VERSION:2.0
PRODID:spatie/icalendar-generator
DESCRIPTION:Events from 
X-WR-CALDESC:Events from 
REFRESH-INTERVAL;VALUE=DURATION:PT1440M
X-PUBLISHED-TTL:PT1440M
BEGIN:VTIMEZONE
TZID:Europe/London
BEGIN:STANDARD
DTSTART:20251026T020000Z
TZOFFSETFROM:+0100
TZOFFSETTO:+0000
END:STANDARD
BEGIN:DAYLIGHT
DTSTART:20260329T010000Z
TZOFFSETFROM:+0000
TZOFFSETTO:+0100
END:DAYLIGHT
BEGIN:STANDARD
DTSTART:20261025T020000Z
TZOFFSETFROM:+0100
TZOFFSETTO:+0000
END:STANDARD
END:VTIMEZONE
BEGIN:VTIMEZONE
TZID:UTC
BEGIN:STANDARD
DTSTART:20250724T110430Z
TZOFFSETFROM:+0000
TZOFFSETTO:+0000
END:STANDARD
END:VTIMEZONE
BEGIN:VEVENT
UID:907-140
DTSTAMP:20260420T110430Z
SUMMARY:Llanymynech Canal Wharf Quiz
LOCATION:
ORGANIZER;CN=PantMemorialInstitute:MAILTO:secretary@pantmemorialhall.org.uk
DTSTART;TZID=Europe/London;VALUE=DATE:20260523
DTEND;TZID=Europe/London;VALUE=DATE:20260524
X-ALT-DESC;FMTTYPE=TEXT/HTML:Event run from at 7.30pm until 10.30pm Detail
 s TBC
CATEGORIES:Quiz
URL;VALUE=URI:https://pantmemorialhall.org.uk/mc-events/llanymynech-canal-w
 harf-quiz/
METHOD:PUBLISH
END:VEVENT
END:VCALENDAR