BEGIN:VCALENDAR
VERSION:2.0
PRODID:spatie/icalendar-generator
DESCRIPTION:Events from 
X-WR-CALDESC:Events from 
REFRESH-INTERVAL;VALUE=DURATION:PT1440M
X-PUBLISHED-TTL:PT1440M
BEGIN:VTIMEZONE
TZID:Europe/London
BEGIN:DAYLIGHT
DTSTART:20250330T010000Z
TZOFFSETFROM:+0000
TZOFFSETTO:+0100
END:DAYLIGHT
BEGIN:STANDARD
DTSTART:20251026T020000Z
TZOFFSETFROM:+0100
TZOFFSETTO:+0000
END:STANDARD
BEGIN:DAYLIGHT
DTSTART:20260329T010000Z
TZOFFSETFROM:+0000
TZOFFSETTO:+0100
END:DAYLIGHT
END:VTIMEZONE
BEGIN:VTIMEZONE
TZID:UTC
BEGIN:STANDARD
DTSTART:20250724T110115Z
TZOFFSETFROM:+0000
TZOFFSETTO:+0000
END:STANDARD
END:VTIMEZONE
BEGIN:VEVENT
UID:391-21
DTSTAMP:20260420T110115Z
SUMMARY:Pilates
LOCATION:
ORGANIZER;CN=PantMemorialInstitute:MAILTO:secretary@pantmemorialhall.org.uk
RRULE:FREQ=WEEKLY;UNTIL=20261223T000000Z
DTSTART;TZID=Europe/London:20251105T090000
DTEND;TZID=Europe/London:20251105T110000
X-ALT-DESC;FMTTYPE=TEXT/HTML:Class runs from 9.30am until 10.30am For furth
 er details\, contact Abi Glover-Davies: 07904 456368/abi.glover-davies@hot
 mail.com
CATEGORIES:Wellness &amp; Fitness
URL;VALUE=URI:https://pantmemorialhall.org.uk/mc-events/pilates-2/?mc_id=39
 1
METHOD:PUBLISH
END:VEVENT
END:VCALENDAR